BEGIN:VCALENDAR
VERSION:2.0
PRODID:-//Plone.org//NONSGML plone.app.event//EN
X-WR-TIMEZONE:America/Chicago
BEGIN:VEVENT
SUMMARY:Halloween Stuffy Sleepover
DTSTART;TZID=America/Chicago:20251024T120000
DTEND;TZID=America/Chicago:20251025T130000
DTSTAMP:20260423T151402Z
UID:19b703fca5124ab8b1c7c86d67144fc9@saas_stack_varnish:6080
CREATED:20250925T174446Z
DESCRIPTION:FRIDAY\, OCTOBER 24TH & SATURDAY\, OCTOBER 25TH
LAST-MODIFIED:20251103T190614Z
LOCATION:De Leon Library
URL:https://deleonlibrary.ploud.net/news-and-events/events/halloween-stuff
 y-sleepover
END:VEVENT
BEGIN:VTIMEZONE
TZID:America/Chicago
X-LIC-LOCATION:America/Chicago
BEGIN:DAYLIGHT
DTSTART:20250309T030000
TZNAME:CDT
TZOFFSETFROM:-0600
TZOFFSETTO:-0500
END:DAYLIGHT
END:VTIMEZONE
END:VCALENDAR
