BEGIN:VCALENDAR
VERSION:2.0
PRODID:-//Plone.org//NONSGML plone.app.event//EN
X-WR-TIMEZONE:America/Chicago
BEGIN:VEVENT
SUMMARY:Mah Jongg Meetup
DTSTART;TZID=America/Chicago:20260915T130000
DTEND;TZID=America/Chicago:20260915T140000
DTSTAMP:20260423T233705Z
UID:a3908699ad704f4082fbb92f6260422f@saas_stack_varnish:6080
CREATED:20260107T151643Z
DESCRIPTION:Come play American Mah Jongg on Tuesdays at 1:00pm!
LAST-MODIFIED:20260107T151658Z
LOCATION:De Leon Library
URL:https://deleonlibrary.ploud.net/news-and-events/events/mah-jongg-meetu
 p/2026-09-15
END:VEVENT
BEGIN:VTIMEZONE
TZID:America/Chicago
X-LIC-LOCATION:America/Chicago
BEGIN:DAYLIGHT
DTSTART:20260308T030000
TZNAME:CDT
TZOFFSETFROM:-0600
TZOFFSETTO:-0500
END:DAYLIGHT
END:VTIMEZONE
END:VCALENDAR
